BEGIN:VCALENDAR
VERSION:2.0
PRODID:-//eventon.com NONSGML v1.0//EN
CALSCALE:GREGORIAN
METHOD:PUBLISH
BEGIN:VEVENT
UID:69e8d85a5c21a
DTSTAMP:20260422T141658Z
DTSTART:20261011T090000Z
DTEND:20261011T190000Z
LOCATION:
SUMMARY:Minato Geek Aki
DESCRIPTION:Minato Geek Aki\nhttps://www.gregorybonneau.fr/events/minato-ge
 ek-aki/
URL:https://www.gregorybonneau.fr/events/minato-geek-aki/
END:VEVENT
END:VCALENDAR