BEGIN:VCALENDAR
VERSION:2.0
PRODID:-//eventon.com NONSGML v1.0//EN
CALSCALE:GREGORIAN
METHOD:PUBLISH
BEGIN:VEVENT
UID:69e8d8db56d2c
DTSTAMP:20260422T141907Z
DTSTART:20251207T100000Z
DTEND:20251207T180000Z
LOCATION:
SUMMARY:MARCHÉ DE NOËL de Falleron
DESCRIPTION:MARCHÉ DE NOËL de Falleron\nhttps://www.gregorybonneau.fr/eve
 nts/marche-de-noel-de-falleron/
URL:https://www.gregorybonneau.fr/events/marche-de-noel-de-falleron/
END:VEVENT
END:VCALENDAR