BEGIN:VCALENDAR
VERSION:2.0
PRODID:-//eventon.com NONSGML v1.0//EN
CALSCALE:GREGORIAN
METHOD:PUBLISH
BEGIN:VEVENT
UID:69e8d87d60977
DTSTAMP:20260422T141733Z
DTSTART:20260711T100000Z
DTEND:20260712T180000Z
LOCATION:
SUMMARY:Festival du Polar Ceze Frissons 2
DESCRIPTION:Festival du polar organisé par l'association Livre en Cèze à
  Bessèges (Gard). Rencontres\,  dédicaces\,  conférences.\nhttps://www.g
 regorybonneau.fr/events/festival-du-polar-ceze-frissons-2/
URL:https://www.gregorybonneau.fr/events/festival-du-polar-ceze-frissons-2/
END:VEVENT
END:VCALENDAR