BEGIN:VCALENDAR
VERSION:2.0
PRODID:-//eventon.com NONSGML v1.0//EN
CALSCALE:GREGORIAN
METHOD:PUBLISH
BEGIN:VEVENT
UID:69e8d85a5c107
DTSTAMP:20260422T141658Z
DTSTART:20260207T100000Z
DTEND:20260207T170000Z
LOCATION:
SUMMARY:Espace culture E.Leclerc Les Sables d'Olonne
DESCRIPTION:Espace culture E.Leclerc Les Sables d'Olonne\nhttps://www.grego
 rybonneau.fr/events/espace-culture-e-leclerc-attente-de-validation/
URL:https://www.gregorybonneau.fr/events/espace-culture-e-leclerc-attente-de-validation/
END:VEVENT
END:VCALENDAR