BEGIN:VCALENDAR
VERSION:2.0
PRODID:-//eventon.com NONSGML v1.0//EN
CALSCALE:GREGORIAN
METHOD:PUBLISH
BEGIN:VEVENT
UID:69e8d8bb7fec7
DTSTAMP:20260422T141835Z
DTSTART:20260329T100000Z
DTEND:20260329T190000Z
LOCATION:
SUMMARY:Festival du Polar 36 Quai de Sèvre
DESCRIPTION:Jeudi Soir 20h30\,  Cinéma Interactif&nbsp; ​ VENDREDI SOIR 
 20h\,  Ouverture officielle du Festival au Piment​ 20h30 Spectacle d’im
 pro&nbsp; et concert&nbsp; ​ SAMEDI&nbsp; ​A partir de13h LA GRANDE ENQ
 UÊTE à la salle Traineau 16h30 Polar occas' 18h30 Apéro\,  repas et soir
 ée festive&nbsp; &nbsp; &nbsp; &nbsp; &nbsp; &nbsp; &nbsp;&nbsp; &nbsp; &n
 bsp; &nbsp;[..]\nhttps://www.gregorybonneau.fr/events/festival-du-polar/
URL:https://www.gregorybonneau.fr/events/festival-du-polar/
END:VEVENT
END:VCALENDAR