BEGIN:VCALENDAR
VERSION:2.0
PRODID:-//eventon.com NONSGML v1.0//EN
CALSCALE:GREGORIAN
METHOD:PUBLISH
BEGIN:VEVENT
UID:69e8d899c61e5
DTSTAMP:20260422T141801Z
DTSTART:20260307T100000Z
DTEND:20260308T180000Z
LOCATION:
SUMMARY:Salon du livre Plumes à la Source - Falleron
DESCRIPTION:Salon du livre Plumes à la Source - Falleron\nhttps://www.greg
 orybonneau.fr/events/salon-du-livre-85-validation-en-cours/
URL:https://www.gregorybonneau.fr/events/salon-du-livre-85-validation-en-cours/
END:VEVENT
END:VCALENDAR