BEGIN:VCALENDAR
VERSION:2.0
PRODID:-//eventon.com NONSGML v1.0//EN
CALSCALE:GREGORIAN
METHOD:PUBLISH
BEGIN:VEVENT
UID:69e8d85b9c030
DTSTAMP:20260422T141659Z
DTSTART:20260607T090000Z
DTEND:20260607T180000Z
LOCATION:
SUMMARY:Salon du livre - Le Boupère
DESCRIPTION:Salon du livre - Le Boupère\nhttps://www.gregorybonneau.fr/eve
 nts/salon-en-attente-2/
URL:https://www.gregorybonneau.fr/events/salon-en-attente-2/
END:VEVENT
END:VCALENDAR