BEGIN:VCALENDAR
VERSION:2.0
PRODID:-//eventon.com NONSGML v1.0//EN
CALSCALE:GREGORIAN
METHOD:PUBLISH
BEGIN:VEVENT
UID:69e5f9cbda24a
DTSTAMP:20260420T100251Z
DTSTART:20250628T100000Z
DTEND:20250628T130000Z
LOCATION:
SUMMARY:Maison de la Presse Machecoul
DESCRIPTION:Maison de la Presse Machecoul\nhttps://www.gregorybonneau.fr/ev
 ents/maison-presse-machecoul-2025/
URL:https://www.gregorybonneau.fr/events/maison-presse-machecoul-2025/
END:VEVENT
END:VCALENDAR