BEGIN:VCALENDAR
VERSION:2.0
PRODID:-//eventon.com NONSGML v1.0//EN
CALSCALE:GREGORIAN
METHOD:PUBLISH
BEGIN:VEVENT
UID:69e8d8dbf001d
DTSTAMP:20260422T141907Z
DTSTART:20260505T123000Z
DTEND:20260505T130000Z
LOCATION:
SUMMARY:Passage radio sur Nov FM – Le Voyage de Lazare
DESCRIPTION:Grégory Bonneau\,  auteur de thrillers psychologiques\,  sera 
 en direct sur les ondes de Nov FM le mardi 5 mai à 12h30. À cette occasio
 n\,  il viendra présenter son nouveau roman :Le Voyage de Lazare\,  un thr
 iller intense mêlant mémoire effacée\,  enquête et mysticisme. Au progr
 amme de cette émission : Les[..]\nhttps://www.gregorybonneau.fr/events/pas
 sage-radio-nov-fm-le-voyage-de-lazare/
URL:https://www.gregorybonneau.fr/events/passage-radio-nov-fm-le-voyage-de-lazare/
END:VEVENT
END:VCALENDAR