BEGIN:VCALENDAR
VERSION:2.0
PRODID:-//eventon.com NONSGML v1.0//EN
CALSCALE:GREGORIAN
METHOD:PUBLISH
BEGIN:VEVENT
UID:69e8d8bc6f312
DTSTAMP:20260422T141836Z
DTSTART:20261122T100000Z
DTEND:20261122T180000Z
LOCATION:
SUMMARY:Attente de validation - 44
DESCRIPTION:Attente de validation - 44\nhttps://www.gregorybonneau.fr/event
 s/attente-de-validation-44/
URL:https://www.gregorybonneau.fr/events/attente-de-validation-44/
END:VEVENT
END:VCALENDAR