BEGIN:VCALENDAR
VERSION:2.0
PRODID:-//eventon.com NONSGML v1.0//EN
CALSCALE:GREGORIAN
METHOD:PUBLISH
BEGIN:VEVENT
UID:69e8d8bb7fdc9
DTSTAMP:20260422T141835Z
DTSTART:20261018T100000Z
DTEND:20261018T180000Z
LOCATION:
SUMMARY:Salon du livre jeunesse Chaumes en Retz
DESCRIPTION:Salon du livre jeunesse Chaumes en Retz\nhttps://www.gregorybon
 neau.fr/events/salon-du-livre-jeunesse-chaumes-en-retz/
URL:https://www.gregorybonneau.fr/events/salon-du-livre-jeunesse-chaumes-en-retz/
END:VEVENT
END:VCALENDAR