BEGIN:VCALENDAR
VERSION:2.0
PRODID:-//eventon.com NONSGML v1.0//EN
CALSCALE:GREGORIAN
METHOD:PUBLISH
BEGIN:VEVENT
UID:69e8d89772adb
DTSTAMP:20260422T141759Z
DTSTART:20260926T150000Z
DTEND:20260926T180000Z
LOCATION:
SUMMARY:Validation en cours
DESCRIPTION:Validation en cours\nhttps://www.gregorybonneau.fr/events/valid
 ation-en-cours/
URL:https://www.gregorybonneau.fr/events/validation-en-cours/
END:VEVENT
END:VCALENDAR