BEGIN:VCALENDAR
VERSION:2.0
PRODID:-//eventon.com NONSGML v1.0//EN
CALSCALE:GREGORIAN
METHOD:PUBLISH
BEGIN:VEVENT
UID:69e8d87e629a3
DTSTAMP:20260422T141734Z
DTSTART:20260509T100000Z
DTEND:20260509T190000Z
LOCATION:
SUMMARY:Printemps du livre de Montaigu
DESCRIPTION:Printemps du livre de Montaigu\nhttps://www.gregorybonneau.fr/e
 vents/salon-livre-montaigu-vendee-2026/
URL:https://www.gregorybonneau.fr/events/salon-livre-montaigu-vendee-2026/
END:VEVENT
END:VCALENDAR