BEGIN:VCALENDAR
VERSION:2.0
PRODID:-//eventon.com NONSGML v1.0//EN
CALSCALE:GREGORIAN
METHOD:PUBLISH
BEGIN:VEVENT
UID:69e8d89772ae9
DTSTAMP:20260422T141759Z
DTSTART:20260508T103000Z
DTEND:20260508T190000Z
LOCATION:
SUMMARY:Printemps du livre de Montaigu
DESCRIPTION:Printemps du livre de Montaigu\nhttps://www.gregorybonneau.fr/e
 vents/printemps-du-livre-montaigu-2026/
URL:https://www.gregorybonneau.fr/events/printemps-du-livre-montaigu-2026/
END:VEVENT
END:VCALENDAR